BEGIN:VCALENDAR
VERSION:2.0
PRODID:-//EELG - Paroisse de Carouge - ECPv6.15.20//NONSGML v1.0//EN
CALSCALE:GREGORIAN
METHOD:PUBLISH
X-ORIGINAL-URL:https://carouge.egliselibre.ch
X-WR-CALDESC:Évènements pour EELG - Paroisse de Carouge
REFRESH-INTERVAL;VALUE=DURATION:PT1H
X-Robots-Tag:noindex
X-PUBLISHED-TTL:PT1H
BEGIN:VTIMEZONE
TZID:Europe/Zurich
BEGIN:DAYLIGHT
TZOFFSETFROM:+0100
TZOFFSETTO:+0200
TZNAME:CEST
DTSTART:20240331T010000
END:DAYLIGHT
BEGIN:STANDARD
TZOFFSETFROM:+0200
TZOFFSETTO:+0100
TZNAME:CET
DTSTART:20241027T010000
END:STANDARD
BEGIN:DAYLIGHT
TZOFFSETFROM:+0100
TZOFFSETTO:+0200
TZNAME:CEST
DTSTART:20250330T010000
END:DAYLIGHT
BEGIN:STANDARD
TZOFFSETFROM:+0200
TZOFFSETTO:+0100
TZNAME:CET
DTSTART:20251026T010000
END:STANDARD
BEGIN:DAYLIGHT
TZOFFSETFROM:+0100
TZOFFSETTO:+0200
TZNAME:CEST
DTSTART:20260329T010000
END:DAYLIGHT
BEGIN:STANDARD
TZOFFSETFROM:+0200
TZOFFSETTO:+0100
TZNAME:CET
DTSTART:20261025T010000
END:STANDARD
END:VTIMEZONE
BEGIN:VEVENT
DTSTART;TZID=Europe/Zurich:20251003T170000
DTEND;TZID=Europe/Zurich:20251003T210000
DTSTAMP:20260421T052645
CREATED:20250403T150404Z
LAST-MODIFIED:20250403T150811Z
UID:10002346-1759510800-1759525200@carouge.egliselibre.ch
SUMMARY:l'EssenCiel
DESCRIPTION:À partir du vendredi 4 avril\, et chaque premier vendredi du mois jusqu’en octobre\, nous vous invitons à EssenCiel\, un moment convivial autour d’un apéritif ouvert à tous\, de 17h à 20h. Venez profiter d’un temps de détente\, de rencontres et d’échanges dans une ambiance chaleureuse\, avec boissons et antipasti à disposition. \nC’est aussi une belle occasion d’inviter vos proches : amis\, collègues\, voisins et famille… Tout le monde est le bienvenu ! Prenons le temps de nous retrouver\, de tisser des liens et de célébrer la vie ensemble. On vous attend avec joie !
URL:https://carouge.egliselibre.ch/event/lessenciel/2025-10-03/
LOCATION:Paroisse de Carouge\, rue du Centenaire 8\, Carouge\, 1227\, Suisse
ATTACH;FMTTYPE=image/png:https://carouge.egliselibre.ch/wp-content/uploads/2025/04/EssenCiel-Annonces-3.png
END:VEVENT
BEGIN:VEVENT
DTSTART;TZID=Europe/Zurich:20251003T190000
DTEND;TZID=Europe/Zurich:20251003T213000
DTSTAMP:20260421T052645
CREATED:20250705T231012Z
LAST-MODIFIED:20250705T231013Z
UID:10002030-1759518000-1759527000@carouge.egliselibre.ch
SUMMARY:AdoC
DESCRIPTION:Le groupe de jeunes (14-20 ans) de la Paroisse se rassemble chaque vendredi soir pour s’attendre à Dieu et grandir entre jeunes dans la foi. Ce sont des soirées dynamiques et authentiques avec des messages percutants qui challengent les vies. \nViens nous rejoindre\, rdv à 19h30 !
URL:https://carouge.egliselibre.ch/event/adoc-2/2025-10-03/
LOCATION:Paroisse de Carouge\, rue du Centenaire 8\, Carouge\, 1227\, Suisse
ATTACH;FMTTYPE=image/png:https://carouge.egliselibre.ch/wp-content/uploads/2022/03/Logo-2.png
END:VEVENT
END:VCALENDAR