BEGIN:VCALENDAR
VERSION:2.0
PRODID:-//EELG - Paroisse de Carouge - ECPv6.15.20//NONSGML v1.0//EN
CALSCALE:GREGORIAN
METHOD:PUBLISH
X-WR-CALNAME:EELG - Paroisse de Carouge
X-ORIGINAL-URL:https://carouge.egliselibre.ch
X-WR-CALDESC:Évènements pour EELG - Paroisse de Carouge
REFRESH-INTERVAL;VALUE=DURATION:PT1H
X-Robots-Tag:noindex
X-PUBLISHED-TTL:PT1H
BEGIN:VTIMEZONE
TZID:Europe/Zurich
BEGIN:DAYLIGHT
TZOFFSETFROM:+0100
TZOFFSETTO:+0200
TZNAME:CEST
DTSTART:20240331T010000
END:DAYLIGHT
BEGIN:STANDARD
TZOFFSETFROM:+0200
TZOFFSETTO:+0100
TZNAME:CET
DTSTART:20241027T010000
END:STANDARD
BEGIN:DAYLIGHT
TZOFFSETFROM:+0100
TZOFFSETTO:+0200
TZNAME:CEST
DTSTART:20250330T010000
END:DAYLIGHT
BEGIN:STANDARD
TZOFFSETFROM:+0200
TZOFFSETTO:+0100
TZNAME:CET
DTSTART:20251026T010000
END:STANDARD
BEGIN:DAYLIGHT
TZOFFSETFROM:+0100
TZOFFSETTO:+0200
TZNAME:CEST
DTSTART:20260329T010000
END:DAYLIGHT
BEGIN:STANDARD
TZOFFSETFROM:+0200
TZOFFSETTO:+0100
TZNAME:CET
DTSTART:20261025T010000
END:STANDARD
END:VTIMEZONE
BEGIN:VEVENT
DTSTART;TZID=Europe/Zurich:20251104T183000
DTEND;TZID=Europe/Zurich:20251104T193000
DTSTAMP:20260420T142315
CREATED:20250704T154850Z
LAST-MODIFIED:20260108T124148Z
UID:10002433-1762281000-1762284600@carouge.egliselibre.ch
SUMMARY:Mardis de prière
DESCRIPTION:Les mardis de prière sont l’occasion de s’accorder sur des temps communs pour amener toute notre reconnaissance\, nos louanges et nos demandes à l’Éternel. Cela prendra la forme de courts temps d’enseignements et de mise en pratique. \nJe vous dis encore que\, si deux d’entre vous s’accordent sur la terre pour demander une chose quelconque\, elle leur sera accordée par mon Père qui est dans les cieux. Car là où deux ou trois sont assemblés en mon nom\, je suis au milieu d’eux. \nMt 18\, 19-20
URL:https://carouge.egliselibre.ch/event/mardis-de-priere/2025-11-04/
LOCATION:Paroisse de Carouge\, rue du Centenaire 8\, Carouge\, 1227\, Suisse
ATTACH;FMTTYPE=image/png:https://carouge.egliselibre.ch/wp-content/uploads/2025/07/MardisDePriere-1.png
END:VEVENT
BEGIN:VEVENT
DTSTART;TZID=Europe/Zurich:20251107T190000
DTEND;TZID=Europe/Zurich:20251107T213000
DTSTAMP:20260420T142315
CREATED:20250705T231012Z
LAST-MODIFIED:20250705T231013Z
UID:10002035-1762542000-1762551000@carouge.egliselibre.ch
SUMMARY:AdoC
DESCRIPTION:Le groupe de jeunes (14-20 ans) de la Paroisse se rassemble chaque vendredi soir pour s’attendre à Dieu et grandir entre jeunes dans la foi. Ce sont des soirées dynamiques et authentiques avec des messages percutants qui challengent les vies. \nViens nous rejoindre\, rdv à 19h30 !
URL:https://carouge.egliselibre.ch/event/adoc-2/2025-11-07/
LOCATION:Paroisse de Carouge\, rue du Centenaire 8\, Carouge\, 1227\, Suisse
ATTACH;FMTTYPE=image/png:https://carouge.egliselibre.ch/wp-content/uploads/2022/03/Logo-2.png
END:VEVENT
BEGIN:VEVENT
DTSTART;TZID=Europe/Zurich:20251110T183000
DTEND;TZID=Europe/Zurich:20251110T193000
DTSTAMP:20260420T142316
CREATED:20251106T165151Z
LAST-MODIFIED:20251106T165702Z
UID:10002517-1762799400-1762803000@carouge.egliselibre.ch
SUMMARY:Prière (Semaine de Jeûne & Prière)
DESCRIPTION:Nous arrivons gentiment ver la fin de notre thématique. La semaine prochaine\, du lundi 10 au samedi 15 novembre\, sera dédiée au jeûne et à la prière. \n🔸 Deux temps de prière auront lieu à la paroisse : lundi 10 et mercredi 12\, de 18h30 à 19h30.\n🔸 Une veillée spéciale clôturera la semaine\, du vendredi 14 à 22h au samedi 15 à 3h du matin\, avec différents moments pour nous conduire dans la louange\, l’intercession et l’écoute. \nQue vous veniez pour une partie  ou tout du long\, rien ne sera perdu ! \nNous encourageons aussi les famille à y participer. Vous pouvez prendre sacs de couchage et tout autre matériel nécessaire. Un espace dans le hall sera aménagé pour le confort des enfants. \n🙏 Pour le jeûne :  Nous recommandons un jeûne quotidien du 10 au 15 novembre\, de 6h à 15h\, en vous abstenant de nourriture (en buvant de l’eau). Profitons bien de remplacer les temps de repas/collation\, par des temps d’intimité avec Dieu au travers de la prière\, la louange et la méditation de la Parole.
URL:https://carouge.egliselibre.ch/event/priere-semaine-de-jeune-priere/2025-11-10/
LOCATION:Paroisse de Carouge\, rue du Centenaire 8\, Carouge\, 1227\, Suisse
ATTACH;FMTTYPE=image/png:https://carouge.egliselibre.ch/wp-content/uploads/2025/11/JeunePriere.png
END:VEVENT
BEGIN:VEVENT
DTSTART;TZID=Europe/Zurich:20251112T183000
DTEND;TZID=Europe/Zurich:20251112T193000
DTSTAMP:20260420T142316
CREATED:20251106T165151Z
LAST-MODIFIED:20251106T165702Z
UID:10002518-1762972200-1762975800@carouge.egliselibre.ch
SUMMARY:Prière (Semaine de Jeûne & Prière)
DESCRIPTION:Nous arrivons gentiment ver la fin de notre thématique. La semaine prochaine\, du lundi 10 au samedi 15 novembre\, sera dédiée au jeûne et à la prière. \n🔸 Deux temps de prière auront lieu à la paroisse : lundi 10 et mercredi 12\, de 18h30 à 19h30.\n🔸 Une veillée spéciale clôturera la semaine\, du vendredi 14 à 22h au samedi 15 à 3h du matin\, avec différents moments pour nous conduire dans la louange\, l’intercession et l’écoute. \nQue vous veniez pour une partie  ou tout du long\, rien ne sera perdu ! \nNous encourageons aussi les famille à y participer. Vous pouvez prendre sacs de couchage et tout autre matériel nécessaire. Un espace dans le hall sera aménagé pour le confort des enfants. \n🙏 Pour le jeûne :  Nous recommandons un jeûne quotidien du 10 au 15 novembre\, de 6h à 15h\, en vous abstenant de nourriture (en buvant de l’eau). Profitons bien de remplacer les temps de repas/collation\, par des temps d’intimité avec Dieu au travers de la prière\, la louange et la méditation de la Parole.
URL:https://carouge.egliselibre.ch/event/priere-semaine-de-jeune-priere/2025-11-12/
LOCATION:Paroisse de Carouge\, rue du Centenaire 8\, Carouge\, 1227\, Suisse
ATTACH;FMTTYPE=image/png:https://carouge.egliselibre.ch/wp-content/uploads/2025/11/JeunePriere.png
END:VEVENT
BEGIN:VEVENT
DTSTART;TZID=Europe/Zurich:20251114T190000
DTEND;TZID=Europe/Zurich:20251114T213000
DTSTAMP:20260420T142316
CREATED:20250705T231012Z
LAST-MODIFIED:20250705T231013Z
UID:10002036-1763146800-1763155800@carouge.egliselibre.ch
SUMMARY:AdoC
DESCRIPTION:Le groupe de jeunes (14-20 ans) de la Paroisse se rassemble chaque vendredi soir pour s’attendre à Dieu et grandir entre jeunes dans la foi. Ce sont des soirées dynamiques et authentiques avec des messages percutants qui challengent les vies. \nViens nous rejoindre\, rdv à 19h30 !
URL:https://carouge.egliselibre.ch/event/adoc-2/2025-11-14/
LOCATION:Paroisse de Carouge\, rue du Centenaire 8\, Carouge\, 1227\, Suisse
ATTACH;FMTTYPE=image/png:https://carouge.egliselibre.ch/wp-content/uploads/2022/03/Logo-2.png
END:VEVENT
BEGIN:VEVENT
DTSTART;TZID=Europe/Zurich:20251114T220000
DTEND;TZID=Europe/Zurich:20251115T030000
DTSTAMP:20260420T142316
CREATED:20251106T165151Z
LAST-MODIFIED:20251106T165702Z
UID:10002519-1763157600-1763175600@carouge.egliselibre.ch
SUMMARY:Prière (Semaine de Jeûne & Prière)
DESCRIPTION:Nous arrivons gentiment ver la fin de notre thématique. La semaine prochaine\, du lundi 10 au samedi 15 novembre\, sera dédiée au jeûne et à la prière. \n🔸 Deux temps de prière auront lieu à la paroisse : lundi 10 et mercredi 12\, de 18h30 à 19h30.\n🔸 Une veillée spéciale clôturera la semaine\, du vendredi 14 à 22h au samedi 15 à 3h du matin\, avec différents moments pour nous conduire dans la louange\, l’intercession et l’écoute. \nQue vous veniez pour une partie  ou tout du long\, rien ne sera perdu ! \nNous encourageons aussi les famille à y participer. Vous pouvez prendre sacs de couchage et tout autre matériel nécessaire. Un espace dans le hall sera aménagé pour le confort des enfants. \n🙏 Pour le jeûne :  Nous recommandons un jeûne quotidien du 10 au 15 novembre\, de 6h à 15h\, en vous abstenant de nourriture (en buvant de l’eau). Profitons bien de remplacer les temps de repas/collation\, par des temps d’intimité avec Dieu au travers de la prière\, la louange et la méditation de la Parole.
URL:https://carouge.egliselibre.ch/event/priere-semaine-de-jeune-priere/2025-11-14/
LOCATION:Paroisse de Carouge\, rue du Centenaire 8\, Carouge\, 1227\, Suisse
ATTACH;FMTTYPE=image/png:https://carouge.egliselibre.ch/wp-content/uploads/2025/11/JeunePriere.png
END:VEVENT
BEGIN:VEVENT
DTSTART;TZID=Europe/Zurich:20251118T183000
DTEND;TZID=Europe/Zurich:20251118T193000
DTSTAMP:20260420T142316
CREATED:20250704T155023Z
LAST-MODIFIED:20260108T124039Z
UID:10002455-1763490600-1763494200@carouge.egliselibre.ch
SUMMARY:Mardis de prière
DESCRIPTION:Les mardis de prière sont l’occasion de s’accorder sur des temps communs pour amener toute notre reconnaissance\, nos louanges et nos demandes à l’Éternel. Cela prendra la forme de courts temps d’enseignements et de mise en pratique. \nJe vous dis encore que\, si deux d’entre vous s’accordent sur la terre pour demander une chose quelconque\, elle leur sera accordée par mon Père qui est dans les cieux. Car là où deux ou trois sont assemblés en mon nom\, je suis au milieu d’eux. \nMt 18\, 19-20
URL:https://carouge.egliselibre.ch/event/mardis-de-priere-2/2025-11-18/
LOCATION:Paroisse de Carouge\, rue du Centenaire 8\, Carouge\, 1227\, Suisse
ATTACH;FMTTYPE=image/png:https://carouge.egliselibre.ch/wp-content/uploads/2025/07/MardisDePriere-1.png
END:VEVENT
BEGIN:VEVENT
DTSTART;TZID=Europe/Zurich:20251121T120000
DTEND;TZID=Europe/Zurich:20251121T133000
DTSTAMP:20260420T142316
CREATED:20250110T104643Z
LAST-MODIFIED:20250704T150845Z
UID:10001619-1763726400-1763731800@carouge.egliselibre.ch
SUMMARY:Repas communautaire
DESCRIPTION:Les 3e vendredis du mois de 12h00 à 13h30\, vous êtes tous conviés à passer le repas de midi ensemble. Pour des questions d’organisation (cuisine)\, merci de vous signaler auprès de Florence Dubath ou si vous désirez aussi intégrer le groupe Whatsapp afin de rester à jour : +41 77 977 48 29.
URL:https://carouge.egliselibre.ch/event/repas-communautaire/2025-11-21/
LOCATION:Paroisse de Carouge\, rue du Centenaire 8\, Carouge\, 1227\, Suisse
ATTACH;FMTTYPE=image/png:https://carouge.egliselibre.ch/wp-content/uploads/2025/01/Repas-communautaire.png
END:VEVENT
BEGIN:VEVENT
DTSTART;TZID=Europe/Zurich:20251121T190000
DTEND;TZID=Europe/Zurich:20251121T213000
DTSTAMP:20260420T142316
CREATED:20250705T231012Z
LAST-MODIFIED:20250705T231013Z
UID:10002037-1763751600-1763760600@carouge.egliselibre.ch
SUMMARY:AdoC
DESCRIPTION:Le groupe de jeunes (14-20 ans) de la Paroisse se rassemble chaque vendredi soir pour s’attendre à Dieu et grandir entre jeunes dans la foi. Ce sont des soirées dynamiques et authentiques avec des messages percutants qui challengent les vies. \nViens nous rejoindre\, rdv à 19h30 !
URL:https://carouge.egliselibre.ch/event/adoc-2/2025-11-21/
LOCATION:Paroisse de Carouge\, rue du Centenaire 8\, Carouge\, 1227\, Suisse
ATTACH;FMTTYPE=image/png:https://carouge.egliselibre.ch/wp-content/uploads/2022/03/Logo-2.png
END:VEVENT
BEGIN:VEVENT
DTSTART;TZID=Europe/Zurich:20251128T190000
DTEND;TZID=Europe/Zurich:20251128T213000
DTSTAMP:20260420T142316
CREATED:20250705T231012Z
LAST-MODIFIED:20250705T231013Z
UID:10002038-1764356400-1764365400@carouge.egliselibre.ch
SUMMARY:AdoC
DESCRIPTION:Le groupe de jeunes (14-20 ans) de la Paroisse se rassemble chaque vendredi soir pour s’attendre à Dieu et grandir entre jeunes dans la foi. Ce sont des soirées dynamiques et authentiques avec des messages percutants qui challengent les vies. \nViens nous rejoindre\, rdv à 19h30 !
URL:https://carouge.egliselibre.ch/event/adoc-2/2025-11-28/
LOCATION:Paroisse de Carouge\, rue du Centenaire 8\, Carouge\, 1227\, Suisse
ATTACH;FMTTYPE=image/png:https://carouge.egliselibre.ch/wp-content/uploads/2022/03/Logo-2.png
END:VEVENT
END:VCALENDAR