BEGIN:VCALENDAR
VERSION:2.0
PRODID:-//EELG - Paroisse de Carouge - ECPv6.15.20//NONSGML v1.0//EN
CALSCALE:GREGORIAN
METHOD:PUBLISH
X-ORIGINAL-URL:https://carouge.egliselibre.ch
X-WR-CALDESC:Évènements pour EELG - Paroisse de Carouge
REFRESH-INTERVAL;VALUE=DURATION:PT1H
X-Robots-Tag:noindex
X-PUBLISHED-TTL:PT1H
BEGIN:VTIMEZONE
TZID:Europe/Zurich
BEGIN:DAYLIGHT
TZOFFSETFROM:+0100
TZOFFSETTO:+0200
TZNAME:CEST
DTSTART:20240331T010000
END:DAYLIGHT
BEGIN:STANDARD
TZOFFSETFROM:+0200
TZOFFSETTO:+0100
TZNAME:CET
DTSTART:20241027T010000
END:STANDARD
BEGIN:DAYLIGHT
TZOFFSETFROM:+0100
TZOFFSETTO:+0200
TZNAME:CEST
DTSTART:20250330T010000
END:DAYLIGHT
BEGIN:STANDARD
TZOFFSETFROM:+0200
TZOFFSETTO:+0100
TZNAME:CET
DTSTART:20251026T010000
END:STANDARD
BEGIN:DAYLIGHT
TZOFFSETFROM:+0100
TZOFFSETTO:+0200
TZNAME:CEST
DTSTART:20260329T010000
END:DAYLIGHT
BEGIN:STANDARD
TZOFFSETFROM:+0200
TZOFFSETTO:+0100
TZNAME:CET
DTSTART:20261025T010000
END:STANDARD
END:VTIMEZONE
BEGIN:VEVENT
DTSTART;TZID=Europe/Zurich:20250801T190000
DTEND;TZID=Europe/Zurich:20250801T213000
DTSTAMP:20260423T133625
CREATED:20220317T125935Z
LAST-MODIFIED:20250705T092542Z
UID:10002021-1754074800-1754083800@carouge.egliselibre.ch
SUMMARY:AdoC
DESCRIPTION:Le groupe de jeunes (14-20 ans) de la Paroisse se rassemble chaque vendredi soir pour s’attendre à Dieu et grandir entre jeunes dans la foi. Ce sont des soirées dynamiques et authentiques avec des messages percutants qui challengent les vies. \nViens nous rejoindre\, rdv à 19h30 !
URL:https://carouge.egliselibre.ch/event/adoc/2025-08-01/
LOCATION:Paroisse de Carouge\, rue du Centenaire 8\, Carouge\, 1227\, Suisse
ATTACH;FMTTYPE=image/png:https://carouge.egliselibre.ch/wp-content/uploads/2022/03/Logo-2.png
END:VEVENT
BEGIN:VEVENT
DTSTART;TZID=Europe/Zurich:20250808T170000
DTEND;TZID=Europe/Zurich:20250808T200000
DTSTAMP:20260423T133625
CREATED:20250403T150404Z
LAST-MODIFIED:20250403T150811Z
UID:10002344-1754672400-1754683200@carouge.egliselibre.ch
SUMMARY:l'EssenCiel
DESCRIPTION:À partir du vendredi 4 avril\, et chaque premier vendredi du mois jusqu’en octobre\, nous vous invitons à EssenCiel\, un moment convivial autour d’un apéritif ouvert à tous\, de 17h à 20h. Venez profiter d’un temps de détente\, de rencontres et d’échanges dans une ambiance chaleureuse\, avec boissons et antipasti à disposition. \nC’est aussi une belle occasion d’inviter vos proches : amis\, collègues\, voisins et famille… Tout le monde est le bienvenu ! Prenons le temps de nous retrouver\, de tisser des liens et de célébrer la vie ensemble. On vous attend avec joie !
URL:https://carouge.egliselibre.ch/event/lessenciel/2025-08-08/
LOCATION:Paroisse de Carouge\, rue du Centenaire 8\, Carouge\, 1227\, Suisse
ATTACH;FMTTYPE=image/png:https://carouge.egliselibre.ch/wp-content/uploads/2025/04/EssenCiel-Annonces-3.png
END:VEVENT
BEGIN:VEVENT
DTSTART;TZID=Europe/Zurich:20250808T190000
DTEND;TZID=Europe/Zurich:20250808T213000
DTSTAMP:20260423T133625
CREATED:20220317T125935Z
LAST-MODIFIED:20250705T092542Z
UID:10002022-1754679600-1754688600@carouge.egliselibre.ch
SUMMARY:AdoC
DESCRIPTION:Le groupe de jeunes (14-20 ans) de la Paroisse se rassemble chaque vendredi soir pour s’attendre à Dieu et grandir entre jeunes dans la foi. Ce sont des soirées dynamiques et authentiques avec des messages percutants qui challengent les vies. \nViens nous rejoindre\, rdv à 19h30 !
URL:https://carouge.egliselibre.ch/event/adoc/2025-08-08/
LOCATION:Paroisse de Carouge\, rue du Centenaire 8\, Carouge\, 1227\, Suisse
ATTACH;FMTTYPE=image/png:https://carouge.egliselibre.ch/wp-content/uploads/2022/03/Logo-2.png
END:VEVENT
BEGIN:VEVENT
DTSTART;TZID=Europe/Zurich:20250815T190000
DTEND;TZID=Europe/Zurich:20250815T213000
DTSTAMP:20260423T133625
CREATED:20250705T231012Z
LAST-MODIFIED:20250705T231013Z
UID:10002023-1755284400-1755293400@carouge.egliselibre.ch
SUMMARY:AdoC
DESCRIPTION:Le groupe de jeunes (14-20 ans) de la Paroisse se rassemble chaque vendredi soir pour s’attendre à Dieu et grandir entre jeunes dans la foi. Ce sont des soirées dynamiques et authentiques avec des messages percutants qui challengent les vies. \nViens nous rejoindre\, rdv à 19h30 !
URL:https://carouge.egliselibre.ch/event/adoc-2/2025-08-15/
LOCATION:Paroisse de Carouge\, rue du Centenaire 8\, Carouge\, 1227\, Suisse
ATTACH;FMTTYPE=image/png:https://carouge.egliselibre.ch/wp-content/uploads/2022/03/Logo-2.png
END:VEVENT
BEGIN:VEVENT
DTSTART;TZID=Europe/Zurich:20250822T120000
DTEND;TZID=Europe/Zurich:20250822T133000
DTSTAMP:20260423T133625
CREATED:20250110T104643Z
LAST-MODIFIED:20250704T150845Z
UID:10002422-1755864000-1755869400@carouge.egliselibre.ch
SUMMARY:Repas communautaire
DESCRIPTION:Les 3e vendredis du mois de 12h00 à 13h30\, vous êtes tous conviés à passer le repas de midi ensemble. Pour des questions d’organisation (cuisine)\, merci de vous signaler auprès de Florence Dubath ou si vous désirez aussi intégrer le groupe Whatsapp afin de rester à jour : +41 77 977 48 29.
URL:https://carouge.egliselibre.ch/event/repas-communautaire/2025-08-22/
LOCATION:Paroisse de Carouge\, rue du Centenaire 8\, Carouge\, 1227\, Suisse
ATTACH;FMTTYPE=image/png:https://carouge.egliselibre.ch/wp-content/uploads/2025/01/Repas-communautaire.png
END:VEVENT
BEGIN:VEVENT
DTSTART;TZID=Europe/Zurich:20250822T190000
DTEND;TZID=Europe/Zurich:20250822T213000
DTSTAMP:20260423T133625
CREATED:20250705T231012Z
LAST-MODIFIED:20250705T231013Z
UID:10002024-1755889200-1755898200@carouge.egliselibre.ch
SUMMARY:AdoC
DESCRIPTION:Le groupe de jeunes (14-20 ans) de la Paroisse se rassemble chaque vendredi soir pour s’attendre à Dieu et grandir entre jeunes dans la foi. Ce sont des soirées dynamiques et authentiques avec des messages percutants qui challengent les vies. \nViens nous rejoindre\, rdv à 19h30 !
URL:https://carouge.egliselibre.ch/event/adoc-2/2025-08-22/
LOCATION:Paroisse de Carouge\, rue du Centenaire 8\, Carouge\, 1227\, Suisse
ATTACH;FMTTYPE=image/png:https://carouge.egliselibre.ch/wp-content/uploads/2022/03/Logo-2.png
END:VEVENT
BEGIN:VEVENT
DTSTART;TZID=Europe/Zurich:20250829T190000
DTEND;TZID=Europe/Zurich:20250829T213000
DTSTAMP:20260423T133625
CREATED:20250705T231012Z
LAST-MODIFIED:20250705T231013Z
UID:10002025-1756494000-1756503000@carouge.egliselibre.ch
SUMMARY:AdoC
DESCRIPTION:Le groupe de jeunes (14-20 ans) de la Paroisse se rassemble chaque vendredi soir pour s’attendre à Dieu et grandir entre jeunes dans la foi. Ce sont des soirées dynamiques et authentiques avec des messages percutants qui challengent les vies. \nViens nous rejoindre\, rdv à 19h30 !
URL:https://carouge.egliselibre.ch/event/adoc-2/2025-08-29/
LOCATION:Paroisse de Carouge\, rue du Centenaire 8\, Carouge\, 1227\, Suisse
ATTACH;FMTTYPE=image/png:https://carouge.egliselibre.ch/wp-content/uploads/2022/03/Logo-2.png
END:VEVENT
BEGIN:VEVENT
DTSTART;TZID=Europe/Zurich:20250831T100000
DTEND;TZID=Europe/Zurich:20250831T113000
DTSTAMP:20260423T133625
CREATED:20250829T141727Z
LAST-MODIFIED:20250829T141727Z
UID:10002515-1756634400-1756639800@carouge.egliselibre.ch
SUMMARY:Culte du BOC à la Vogue
DESCRIPTION:
URL:https://carouge.egliselibre.ch/event/culte-du-boc-a-la-vogue/
LOCATION:Place de Sardaigne\, Carouge
ATTACH;FMTTYPE=image/png:https://carouge.egliselibre.ch/wp-content/uploads/2025/08/BOC205.png
END:VEVENT
END:VCALENDAR