BEGIN:VCALENDAR
VERSION:2.0
PRODID:-//EELG - Paroisse de Carouge - ECPv6.15.20//NONSGML v1.0//EN
CALSCALE:GREGORIAN
METHOD:PUBLISH
X-ORIGINAL-URL:https://carouge.egliselibre.ch
X-WR-CALDESC:Évènements pour EELG - Paroisse de Carouge
REFRESH-INTERVAL;VALUE=DURATION:PT1H
X-Robots-Tag:noindex
X-PUBLISHED-TTL:PT1H
BEGIN:VTIMEZONE
TZID:Europe/Zurich
BEGIN:DAYLIGHT
TZOFFSETFROM:+0100
TZOFFSETTO:+0200
TZNAME:CEST
DTSTART:20250330T010000
END:DAYLIGHT
BEGIN:STANDARD
TZOFFSETFROM:+0200
TZOFFSETTO:+0100
TZNAME:CET
DTSTART:20251026T010000
END:STANDARD
BEGIN:DAYLIGHT
TZOFFSETFROM:+0100
TZOFFSETTO:+0200
TZNAME:CEST
DTSTART:20260329T010000
END:DAYLIGHT
BEGIN:STANDARD
TZOFFSETFROM:+0200
TZOFFSETTO:+0100
TZNAME:CET
DTSTART:20261025T010000
END:STANDARD
BEGIN:DAYLIGHT
TZOFFSETFROM:+0100
TZOFFSETTO:+0200
TZNAME:CEST
DTSTART:20270328T010000
END:DAYLIGHT
BEGIN:STANDARD
TZOFFSETFROM:+0200
TZOFFSETTO:+0100
TZNAME:CET
DTSTART:20271031T010000
END:STANDARD
END:VTIMEZONE
BEGIN:VEVENT
DTSTART;TZID=Europe/Zurich:20260208T100000
DTEND;TZID=Europe/Zurich:20260208T160000
DTSTAMP:20260420T050021
CREATED:20260108T124614Z
LAST-MODIFIED:20260108T124614Z
UID:10002520-1770544800-1770566400@carouge.egliselibre.ch
SUMMARY:Journée inter-églises à Palexpo
DESCRIPTION:La journée Inter-église du réseau évangélique de Genève (REG) aura lieu ce dimanche 8 février de 10h à 16h. Un grand nombre d’églises et d’oeuvres se rassembleront pour célébrer Dieu à l’unisson.\nUn rendez-vous à ne pas manquer !\nIl n’y aura donc pas de culte à la Paroisse \nCliquez ici pour plus d’informations
URL:https://carouge.egliselibre.ch/event/journee-inter-eglises-a-palexpo-2/
LOCATION:Palexpo\, Route François-Peyrot 30\, Genève\, Genève\, 1218\, Suisse
ATTACH;FMTTYPE=image/jpeg:https://carouge.egliselibre.ch/wp-content/uploads/2026/01/FRANCAIS_Annonce-JIE2026-Palexpo-2-scaled.jpg
END:VEVENT
END:VCALENDAR