BEGIN:VCALENDAR
VERSION:2.0
PRODID:-//EELG - Paroisse de Carouge - ECPv6.15.20//NONSGML v1.0//EN
CALSCALE:GREGORIAN
METHOD:PUBLISH
X-WR-CALNAME:EELG - Paroisse de Carouge
X-ORIGINAL-URL:https://carouge.egliselibre.ch
X-WR-CALDESC:Évènements pour EELG - Paroisse de Carouge
REFRESH-INTERVAL;VALUE=DURATION:PT1H
X-Robots-Tag:noindex
X-PUBLISHED-TTL:PT1H
BEGIN:VTIMEZONE
TZID:Europe/Zurich
BEGIN:DAYLIGHT
TZOFFSETFROM:+0100
TZOFFSETTO:+0200
TZNAME:CEST
DTSTART:20250330T010000
END:DAYLIGHT
BEGIN:STANDARD
TZOFFSETFROM:+0200
TZOFFSETTO:+0100
TZNAME:CET
DTSTART:20251026T010000
END:STANDARD
BEGIN:DAYLIGHT
TZOFFSETFROM:+0100
TZOFFSETTO:+0200
TZNAME:CEST
DTSTART:20260329T010000
END:DAYLIGHT
BEGIN:STANDARD
TZOFFSETFROM:+0200
TZOFFSETTO:+0100
TZNAME:CET
DTSTART:20261025T010000
END:STANDARD
BEGIN:DAYLIGHT
TZOFFSETFROM:+0100
TZOFFSETTO:+0200
TZNAME:CEST
DTSTART:20270328T010000
END:DAYLIGHT
BEGIN:STANDARD
TZOFFSETFROM:+0200
TZOFFSETTO:+0100
TZNAME:CET
DTSTART:20271031T010000
END:STANDARD
END:VTIMEZONE
BEGIN:VEVENT
DTSTART;TZID=Europe/Zurich:20260118T100000
DTEND;TZID=Europe/Zurich:20260118T113000
DTSTAMP:20260420T081934
CREATED:20260108T124906Z
LAST-MODIFIED:20260108T124906Z
UID:10002521-1768730400-1768735800@carouge.egliselibre.ch
SUMMARY:Culte du BOC
DESCRIPTION:Dans le cadre de la semaine de prière pour l’unité des chrétiens\, le Bureau oecuménique de Carouge (BOC) organise une célébration oecuménique le dimanche 18 janvier à 10h00 au Sainte–Croix. Le culte sera animé par des intervenants des différentes églises du BOC. \nÀ noter que pour ce dimanche\, il n’y aura donc pas de culte à la Paroisse\, ni ne prise en charge des enfants.
URL:https://carouge.egliselibre.ch/event/culte-du-boc-2/
LOCATION:Église Sainte-Croix\, Place du Marché\, Carouge\, 1227\, Suisse
ATTACH;FMTTYPE=image/png:https://carouge.egliselibre.ch/wp-content/uploads/2026/01/BOC-2026.png
END:VEVENT
END:VCALENDAR