BEGIN:VCALENDAR
VERSION:2.0
PRODID:-//EELG - Paroisse de Carouge - ECPv6.15.20//NONSGML v1.0//EN
CALSCALE:GREGORIAN
METHOD:PUBLISH
X-WR-CALNAME:EELG - Paroisse de Carouge
X-ORIGINAL-URL:https://carouge.egliselibre.ch
X-WR-CALDESC:Évènements pour EELG - Paroisse de Carouge
REFRESH-INTERVAL;VALUE=DURATION:PT1H
X-Robots-Tag:noindex
X-PUBLISHED-TTL:PT1H
BEGIN:VTIMEZONE
TZID:Europe/Zurich
BEGIN:DAYLIGHT
TZOFFSETFROM:+0100
TZOFFSETTO:+0200
TZNAME:CEST
DTSTART:20250330T010000
END:DAYLIGHT
BEGIN:STANDARD
TZOFFSETFROM:+0200
TZOFFSETTO:+0100
TZNAME:CET
DTSTART:20251026T010000
END:STANDARD
BEGIN:DAYLIGHT
TZOFFSETFROM:+0100
TZOFFSETTO:+0200
TZNAME:CEST
DTSTART:20260329T010000
END:DAYLIGHT
BEGIN:STANDARD
TZOFFSETFROM:+0200
TZOFFSETTO:+0100
TZNAME:CET
DTSTART:20261025T010000
END:STANDARD
BEGIN:DAYLIGHT
TZOFFSETFROM:+0100
TZOFFSETTO:+0200
TZNAME:CEST
DTSTART:20270328T010000
END:DAYLIGHT
BEGIN:STANDARD
TZOFFSETFROM:+0200
TZOFFSETTO:+0100
TZNAME:CET
DTSTART:20271031T010000
END:STANDARD
END:VTIMEZONE
BEGIN:VEVENT
DTSTART;TZID=Europe/Zurich:20260111T100000
DTEND;TZID=Europe/Zurich:20260111T113000
DTSTAMP:20260420T095029
CREATED:20260108T130840Z
LAST-MODIFIED:20260108T131221Z
UID:10002597-1768125600-1768131000@carouge.egliselibre.ch
SUMMARY:Culte à 10h
DESCRIPTION:Nous nous réjouissons de t’accueillir chaque dimanche matin à 10h !
URL:https://carouge.egliselibre.ch/event/culte-de-10h00-2022-01-16-2/2026-01-11/
LOCATION:Paroisse de Carouge\, rue du Centenaire 8\, Carouge\, 1227\, Suisse
ATTACH;FMTTYPE=image/jpeg:https://carouge.egliselibre.ch/wp-content/uploads/2021/09/site_backgroundm.jpeg
END:VEVENT
END:VCALENDAR